BEGIN:VCALENDAR
VERSION:2.0
PRODID:icalendar-ruby
CALSCALE:GREGORIAN
METHOD:PUBLISH
X-WR-CALNAME:Roundball Co-Ed Classic Calendar
BEGIN:VTIMEZONE
TZID:America/Los_Angeles
BEGIN:DAYLIGHT
DTSTART:20260308T030000
TZOFFSETFROM:-0800
TZOFFSETTO:-0700
RRULE:FREQ=YEARLY;BYDAY=2SU;BYMONTH=3
TZNAME:PDT
END:DAYLIGHT
BEGIN:STANDARD
DTSTART:20261101T010000
TZOFFSETFROM:-0700
TZOFFSETTO:-0800
RRULE:FREQ=YEARLY;BYDAY=1SU;BYMONTH=11
TZNAME:PST
END:STANDARD
END:VTIMEZONE
BEGIN:VEVENT
DTSTAMP:20260421T101609Z
UID:game-146808617
DTSTART;TZID=America/Los_Angeles:20260328T104900
DTEND;TZID=America/Los_Angeles:20260328T113300
DESCRIPTION:FV Prep vs Boys & Girls Club
SUMMARY:FV Prep vs Boys & Girls Club
URL;VALUE=URI:https://stats.roundball.ca/sites/coedclassic/games/146808617
END:VEVENT
BEGIN:VEVENT
DTSTAMP:20260421T101609Z
UID:game-146808620
DTSTART;TZID=America/Los_Angeles:20260328T131600
DTEND;TZID=America/Los_Angeles:20260328T140000
DESCRIPTION:Ballerinas vs FV Prep
SUMMARY:Ballerinas vs FV Prep
URL;VALUE=URI:https://stats.roundball.ca/sites/coedclassic/games/146808620
END:VEVENT
BEGIN:VEVENT
DTSTAMP:20260421T101609Z
UID:game-146808623
DTSTART;TZID=America/Los_Angeles:20260328T154300
DTEND;TZID=America/Los_Angeles:20260328T162700
DESCRIPTION:FV Prep vs Angels 
SUMMARY:FV Prep vs Angels 
URL;VALUE=URI:https://stats.roundball.ca/sites/coedclassic/games/146808623
END:VEVENT
BEGIN:VEVENT
DTSTAMP:20260421T101609Z
UID:game-147002021
DTSTART;TZID=America/Los_Angeles:20260329T130000
DTEND;TZID=America/Los_Angeles:20260329T140000
DESCRIPTION:FV Prep vs Boys & Girls Club
SUMMARY:FV Prep vs Boys & Girls Club
URL;VALUE=URI:https://stats.roundball.ca/sites/coedclassic/games/147002021
END:VEVENT
BEGIN:VEVENT
DTSTAMP:20260421T101609Z
UID:game-147002035
DTSTART;TZID=America/Los_Angeles:20260329T153000
DTEND;TZID=America/Los_Angeles:20260329T163000
DESCRIPTION:Ballerinas vs FV Prep
SUMMARY:Ballerinas vs FV Prep
URL;VALUE=URI:https://stats.roundball.ca/sites/coedclassic/games/147002035
END:VEVENT
END:VCALENDAR
