BEGIN:VCALENDAR
VERSION:2.0
PRODID:icalendar-ruby
CALSCALE:GREGORIAN
METHOD:PUBLISH
X-WR-CALNAME:Roundball Co-Ed Classic Calendar
BEGIN:VTIMEZONE
TZID:America/Los_Angeles
BEGIN:DAYLIGHT
DTSTART:20260308T030000
TZOFFSETFROM:-0800
TZOFFSETTO:-0700
RRULE:FREQ=YEARLY;BYDAY=2SU;BYMONTH=3
TZNAME:PDT
END:DAYLIGHT
BEGIN:STANDARD
DTSTART:20261101T010000
TZOFFSETFROM:-0700
TZOFFSETTO:-0800
RRULE:FREQ=YEARLY;BYDAY=1SU;BYMONTH=11
TZNAME:PST
END:STANDARD
END:VTIMEZONE
BEGIN:VEVENT
DTSTAMP:20260421T101609Z
UID:game-146808618
DTSTART;TZID=America/Los_Angeles:20260328T113800
DTEND;TZID=America/Los_Angeles:20260328T122200
DESCRIPTION:Mamba Menality vs FA
SUMMARY:Mamba Menality vs FA
URL;VALUE=URI:https://stats.roundball.ca/sites/coedclassic/games/146808618
END:VEVENT
BEGIN:VEVENT
DTSTAMP:20260421T101609Z
UID:game-146808622
DTSTART;TZID=America/Los_Angeles:20260328T145400
DTEND;TZID=America/Los_Angeles:20260328T153800
DESCRIPTION:Outsiders vs Mamba Menality
SUMMARY:Outsiders vs Mamba Menality
URL;VALUE=URI:https://stats.roundball.ca/sites/coedclassic/games/146808622
END:VEVENT
BEGIN:VEVENT
DTSTAMP:20260421T101609Z
UID:game-146808625
DTSTART;TZID=America/Los_Angeles:20260328T172100
DTEND;TZID=America/Los_Angeles:20260328T180500
DESCRIPTION:Mamba Menality vs Angels 
SUMMARY:Mamba Menality vs Angels 
URL;VALUE=URI:https://stats.roundball.ca/sites/coedclassic/games/146808625
END:VEVENT
BEGIN:VEVENT
DTSTAMP:20260421T101609Z
UID:game-146915921
DTSTART;TZID=America/Los_Angeles:20260329T100000
DTEND;TZID=America/Los_Angeles:20260329T110000
DESCRIPTION:Angels  vs Mamba Menality
SUMMARY:Angels  vs Mamba Menality
URL;VALUE=URI:https://stats.roundball.ca/sites/coedclassic/games/146915921
END:VEVENT
BEGIN:VEVENT
DTSTAMP:20260421T101609Z
UID:game-146990578
DTSTART;TZID=America/Los_Angeles:20260329T120000
DTEND;TZID=America/Los_Angeles:20260329T130000
DESCRIPTION:Mamba Menality vs Ballerinas
SUMMARY:Mamba Menality vs Ballerinas
URL;VALUE=URI:https://stats.roundball.ca/sites/coedclassic/games/146990578
END:VEVENT
END:VCALENDAR
