BEGIN:VCALENDAR
VERSION:2.0
PRODID:icalendar-ruby
CALSCALE:GREGORIAN
METHOD:PUBLISH
X-WR-CALNAME:CrossOver Hoops Classic Calendar
BEGIN:VTIMEZONE
TZID:America/Los_Angeles
BEGIN:DAYLIGHT
DTSTART:20260308T030000
TZOFFSETFROM:-0800
TZOFFSETTO:-0700
RRULE:FREQ=YEARLY;BYDAY=2SU;BYMONTH=3
TZNAME:PDT
END:DAYLIGHT
BEGIN:STANDARD
DTSTART:20261101T010000
TZOFFSETFROM:-0700
TZOFFSETTO:-0800
RRULE:FREQ=YEARLY;BYDAY=1SU;BYMONTH=11
TZNAME:PST
END:STANDARD
END:VTIMEZONE
BEGIN:VEVENT
DTSTAMP:20260421T102800Z
UID:game-148685104
DTSTART;TZID=America/Los_Angeles:20260411T133000
DTEND;TZID=America/Los_Angeles:20260411T143000
DESCRIPTION:Bulldogs vs John Knox
SUMMARY:Bulldogs vs John Knox
URL;VALUE=URI:https://stats.roundball.ca/sites/coh2026/games/148685104
END:VEVENT
BEGIN:VEVENT
DTSTAMP:20260421T102800Z
UID:game-148685172
DTSTART;TZID=America/Los_Angeles:20260411T151400
DTEND;TZID=America/Los_Angeles:20260411T161400
DESCRIPTION:The Basket Ballers vs Bulldogs
SUMMARY:The Basket Ballers vs Bulldogs
URL;VALUE=URI:https://stats.roundball.ca/sites/coh2026/games/148685172
END:VEVENT
BEGIN:VEVENT
DTSTAMP:20260421T102800Z
UID:game-148707201
DTSTART;TZID=America/Los_Angeles:20260411T164500
DTEND;TZID=America/Los_Angeles:20260411T174500
DESCRIPTION:Born Ballers vs Bulldogs
SUMMARY:Born Ballers vs Bulldogs
URL;VALUE=URI:https://stats.roundball.ca/sites/coh2026/games/148707201
END:VEVENT
BEGIN:VEVENT
DTSTAMP:20260421T102800Z
UID:game-148707245
DTSTART;TZID=America/Los_Angeles:20260411T193400
DTEND;TZID=America/Los_Angeles:20260411T203400
DESCRIPTION:Bulldogs vs Chosen
SUMMARY:Bulldogs vs Chosen
URL;VALUE=URI:https://stats.roundball.ca/sites/coh2026/games/148707245
END:VEVENT
END:VCALENDAR
