BEGIN:VCALENDAR
VERSION:2.0
PRODID:icalendar-ruby
CALSCALE:GREGORIAN
METHOD:PUBLISH
X-WR-CALNAME:Vancouver Spring Competitive League 2026 Calendar
BEGIN:VTIMEZONE
TZID:America/Los_Angeles
BEGIN:DAYLIGHT
DTSTART:20260308T030000
TZOFFSETFROM:-0800
TZOFFSETTO:-0700
RRULE:FREQ=YEARLY;BYDAY=2SU;BYMONTH=3
TZNAME:PDT
END:DAYLIGHT
BEGIN:STANDARD
DTSTART:20261101T010000
TZOFFSETFROM:-0700
TZOFFSETTO:-0800
RRULE:FREQ=YEARLY;BYDAY=1SU;BYMONTH=11
TZNAME:PST
END:STANDARD
END:VTIMEZONE
BEGIN:VEVENT
DTSTAMP:20260424T201221Z
UID:game-149655116
DTSTART;TZID=America/Los_Angeles:20260419T171000
DTEND;TZID=America/Los_Angeles:20260419T181000
DESCRIPTION:Tune Squad vs Ball so Hard
SUMMARY:Tune Squad vs Ball so Hard
URL;VALUE=URI:https://stats.roundball.ca/sites/roundballvancouvercompetitiv
 e/games/149655116
END:VEVENT
END:VCALENDAR
