BEGIN:VCALENDAR
VERSION:2.0
PRODID:icalendar-ruby
CALSCALE:GREGORIAN
METHOD:PUBLISH
X-WR-CALNAME:Burnaby Spring Competitive League 2026 Calendar
BEGIN:VTIMEZONE
TZID:America/New_York
BEGIN:DAYLIGHT
DTSTART:20260308T030000
TZOFFSETFROM:-0500
TZOFFSETTO:-0400
RRULE:FREQ=YEARLY;BYDAY=2SU;BYMONTH=3
TZNAME:EDT
END:DAYLIGHT
BEGIN:STANDARD
DTSTART:20261101T010000
TZOFFSETFROM:-0400
TZOFFSETTO:-0500
RRULE:FREQ=YEARLY;BYDAY=1SU;BYMONTH=11
TZNAME:EST
END:STANDARD
END:VTIMEZONE
BEGIN:VEVENT
DTSTAMP:20260420T180117Z
UID:game-149219402
DTSTART;TZID=America/New_York:20260415T183000
DTEND;TZID=America/New_York:20260415T193000
DESCRIPTION:Father Time vs Too much sauce
SUMMARY:Father Time vs Too much sauce
URL;VALUE=URI:https://stats.roundball.ca/sites/roundballburnabycompetitive/
 games/149219402
END:VEVENT
END:VCALENDAR
