BEGIN:VCALENDAR
VERSION:2.0
PRODID:icalendar-ruby
CALSCALE:GREGORIAN
METHOD:PUBLISH
X-WR-CALNAME:Richmond Open Run League Spring 2026 Calendar
BEGIN:VTIMEZONE
TZID:America/Los_Angeles
BEGIN:DAYLIGHT
DTSTART:20260308T030000
TZOFFSETFROM:-0800
TZOFFSETTO:-0700
RRULE:FREQ=YEARLY;BYDAY=2SU;BYMONTH=3
TZNAME:PDT
END:DAYLIGHT
BEGIN:STANDARD
DTSTART:20261101T010000
TZOFFSETFROM:-0700
TZOFFSETTO:-0800
RRULE:FREQ=YEARLY;BYDAY=1SU;BYMONTH=11
TZNAME:PST
END:STANDARD
END:VTIMEZONE
BEGIN:VEVENT
DTSTAMP:20260423T170215Z
UID:game-148966482
DTSTART;TZID=America/Los_Angeles:20260413T220000
DTEND;TZID=America/Los_Angeles:20260413T200000
DESCRIPTION:Thunder vs Rebels @ Richmond Oval-Court 7
LOCATION:Richmond Oval-Court 7
SUMMARY:Thunder vs Rebels
URL;VALUE=URI:https://stats.roundball.ca/sites/roundballrec/games/148966482
END:VEVENT
BEGIN:VEVENT
DTSTAMP:20260423T170215Z
UID:game-149781306
DTSTART;TZID=America/Los_Angeles:20260420T220000
DTEND;TZID=America/Los_Angeles:20260420T200000
DESCRIPTION:Rebels vs 8090 @ Richmond Oval-Court 7
LOCATION:Richmond Oval-Court 7
SUMMARY:Rebels vs 8090
URL;VALUE=URI:https://stats.roundball.ca/sites/roundballrec/games/149781306
END:VEVENT
END:VCALENDAR
